Package: CopyNumberPlots Version: 1.25.0 Command: /Library/Frameworks/R.framework/Resources/bin/R CMD build --keep-empty-dirs --no-resave-data CopyNumberPlots StartedAt: 2025-10-24 16:38:33 -0400 (Fri, 24 Oct 2025) EndedAt: 2025-10-24 16:40:10 -0400 (Fri, 24 Oct 2025) EllapsedTime: 96.9 seconds RetCode: 0 Status: OK PackageFile: CopyNumberPlots_1.25.0.tar.gz PackageFileSize: 2.895 MiB