Package: ConsensusClusterPlus Version: 1.73.0 Command: /home/biocbuild/R/R/bin/R CMD INSTALL ConsensusClusterPlus StartedAt: 2025-10-23 20:31:34 -0000 (Thu, 23 Oct 2025) EndedAt: 2025-10-23 20:31:38 -0000 (Thu, 23 Oct 2025) EllapsedTime: 3.7 seconds RetCode: 0 Status: OK