Package: ConsensusClusterPlus Version: 1.73.0 Command: /home/biocbuild/bbs-3.22-bioc/R/bin/R CMD INSTALL ConsensusClusterPlus StartedAt: 2025-10-24 15:23:37 -0400 (Fri, 24 Oct 2025) EndedAt: 2025-10-24 15:23:41 -0400 (Fri, 24 Oct 2025) EllapsedTime: 3.8 seconds RetCode: 0 Status: OK