Package: ConsensusClusterPlus Version: 1.73.0 Command: /Library/Frameworks/R.framework/Resources/bin/R CMD INSTALL ConsensusClusterPlus StartedAt: 2025-10-27 15:06:55 -0400 (Mon, 27 Oct 2025) EndedAt: 2025-10-27 15:06:56 -0400 (Mon, 27 Oct 2025) EllapsedTime: 1.5 seconds RetCode: 0 Status: OK