Package: ConsensusClusterPlus Version: 1.73.0 Command: /Library/Frameworks/R.framework/Resources/bin/R CMD check --install=check:ConsensusClusterPlus.install-out.txt --library=/Library/Frameworks/R.framework/Resources/library --no-vignettes --timings ConsensusClusterPlus_1.73.0.tar.gz StartedAt: 2025-10-27 19:05:47 -0400 (Mon, 27 Oct 2025) EndedAt: 2025-10-27 19:06:00 -0400 (Mon, 27 Oct 2025) EllapsedTime: 13.2 seconds RetCode: 0 Status: OK CheckDir: ConsensusClusterPlus.Rcheck Warnings: 0