Package: CompoundDb Version: 1.13.0 Command: /home/biocbuild/R/R/bin/R CMD INSTALL CompoundDb StartedAt: 2025-10-23 20:58:52 -0000 (Thu, 23 Oct 2025) EndedAt: 2025-10-23 20:59:21 -0000 (Thu, 23 Oct 2025) EllapsedTime: 28.4 seconds RetCode: 0 Status: OK