Package: CompoundDb Version: 1.13.0 Command: /Library/Frameworks/R.framework/Resources/bin/R CMD INSTALL CompoundDb StartedAt: 2025-10-24 15:40:41 -0400 (Fri, 24 Oct 2025) EndedAt: 2025-10-24 15:41:12 -0400 (Fri, 24 Oct 2025) EllapsedTime: 31.2 seconds RetCode: 0 Status: OK