Package: CompoundDb Version: 1.13.0 Command: /Library/Frameworks/R.framework/Resources/bin/R CMD build --keep-empty-dirs --no-resave-data CompoundDb StartedAt: 2025-10-24 16:03:11 -0400 (Fri, 24 Oct 2025) EndedAt: 2025-10-24 16:03:27 -0400 (Fri, 24 Oct 2025) EllapsedTime: 16.2 seconds RetCode: 0 Status: OK PackageFile: CompoundDb_1.13.0.tar.gz PackageFileSize: 1.303 MiB