Package: ComplexHeatmap Version: 2.25.2 Command: /home/biocbuild/bbs-3.22-bioc/R/bin/R CMD INSTALL ComplexHeatmap StartedAt: 2025-10-24 15:24:52 -0400 (Fri, 24 Oct 2025) EndedAt: 2025-10-24 15:25:14 -0400 (Fri, 24 Oct 2025) EllapsedTime: 21.3 seconds RetCode: 0 Status: OK