Package: ComplexHeatmap Version: 2.25.2 Command: /Library/Frameworks/R.framework/Resources/bin/R CMD build --keep-empty-dirs --no-resave-data ComplexHeatmap StartedAt: 2025-10-24 16:37:19 -0400 (Fri, 24 Oct 2025) EndedAt: 2025-10-24 16:37:58 -0400 (Fri, 24 Oct 2025) EllapsedTime: 39.9 seconds RetCode: 0 Status: OK PackageFile: ComplexHeatmap_2.25.2.tar.gz PackageFileSize: 1.411 MiB