Package: ComplexHeatmap Version: 2.25.2 Command: /Library/Frameworks/R.framework/Resources/bin/R CMD build --keep-empty-dirs --no-resave-data ComplexHeatmap StartedAt: 2025-10-26 16:01:48 -0400 (Sun, 26 Oct 2025) EndedAt: 2025-10-26 16:02:01 -0400 (Sun, 26 Oct 2025) EllapsedTime: 12.1 seconds RetCode: 0 Status: OK PackageFile: ComplexHeatmap_2.25.2.tar.gz PackageFileSize: 1.411 MiB