Package: ComPrAn Version: 1.17.0 Command: /home/biocbuild/bbs-3.22-bioc/R/bin/R CMD build --keep-empty-dirs --no-resave-data --md5 ComPrAn StartedAt: 2025-10-27 16:59:41 -0400 (Mon, 27 Oct 2025) EndedAt: 2025-10-27 17:00:03 -0400 (Mon, 27 Oct 2025) EllapsedTime: 22.0 seconds RetCode: 0 Status: OK PackageFile: ComPrAn_1.17.0.tar.gz PackageFileSize: 3.282 MiB