Package: ComPrAn Version: 1.18.0 Command: /Library/Frameworks/R.framework/Resources/bin/R CMD INSTALL ComPrAn StartedAt: 2025-11-06 15:05:43 -0500 (Thu, 06 Nov 2025) EndedAt: 2025-11-06 15:05:48 -0500 (Thu, 06 Nov 2025) EllapsedTime: 4.6 seconds RetCode: 0 Status: OK