Package: ComPrAn Version: 1.18.0 Command: rm -rf ComPrAn.buildbin-libdir && mkdir ComPrAn.buildbin-libdir && /Users/biocbuild/BBS/utils/build-universal.sh ComPrAn_1.18.0.tar.gz /Library/Frameworks/R.framework/Resources/bin/R ComPrAn.buildbin-libdir StartedAt: 2025-11-06 23:00:35 -0500 (Thu, 06 Nov 2025) EndedAt: 2025-11-06 23:00:39 -0500 (Thu, 06 Nov 2025) EllapsedTime: 4.1 seconds RetCode: 0 Status: OK PackageFile: ComPrAn_1.18.0.tgz PackageFileSize: 2.563 MiB