Package: Cogito Version: 1.15.2 Command: /home/biocbuild/bbs-3.22-bioc/R/bin/R CMD INSTALL Cogito StartedAt: 2025-10-24 15:54:04 -0400 (Fri, 24 Oct 2025) EndedAt: 2025-10-24 15:54:43 -0400 (Fri, 24 Oct 2025) EllapsedTime: 38.9 seconds RetCode: 0 Status: OK