Package: CoSIA Version: 1.10.0 Command: /home/biocbuild/bbs-3.22-bioc/R/bin/R CMD INSTALL CoSIA StartedAt: 2025-10-30 16:02:39 -0400 (Thu, 30 Oct 2025) EndedAt: 2025-10-30 16:02:57 -0400 (Thu, 30 Oct 2025) EllapsedTime: 17.2 seconds RetCode: 0 Status: OK