Package: CoSIA Version: 1.10.0 Command: /home/biocbuild/bbs-3.22-bioc/R/bin/R CMD build --keep-empty-dirs --no-resave-data --md5 CoSIA StartedAt: 2025-10-30 17:01:47 -0400 (Thu, 30 Oct 2025) EndedAt: 2025-10-30 17:08:29 -0400 (Thu, 30 Oct 2025) EllapsedTime: 402.3 seconds RetCode: 0 Status: OK PackageFile: CoSIA_1.10.0.tar.gz PackageFileSize: 1.168 MiB