Package: CoGAPS Version: 3.29.1 Command: /home/biocbuild/bbs-3.22-bioc/R/bin/R CMD INSTALL CoGAPS StartedAt: 2025-10-24 15:29:48 -0400 (Fri, 24 Oct 2025) EndedAt: 2025-10-24 15:32:02 -0400 (Fri, 24 Oct 2025) EllapsedTime: 134.0 seconds RetCode: 0 Status: OK