Package: CoCiteStats Version: 1.81.0 Command: /home/biocbuild/bbs-3.22-bioc/R/bin/R CMD INSTALL CoCiteStats StartedAt: 2025-10-24 15:49:08 -0400 (Fri, 24 Oct 2025) EndedAt: 2025-10-24 15:49:21 -0400 (Fri, 24 Oct 2025) EllapsedTime: 12.3 seconds RetCode: 0 Status: OK