Package: ClusterSignificance Version: 1.37.0 Command: /home/biocbuild/bbs-3.22-bioc/R/bin/R CMD check --install=check:ClusterSignificance.install-out.txt --library=/home/biocbuild/bbs-3.22-bioc/R/site-library --timings ClusterSignificance_1.37.0.tar.gz StartedAt: 2025-10-27 22:10:47 -0400 (Mon, 27 Oct 2025) EndedAt: 2025-10-27 22:12:14 -0400 (Mon, 27 Oct 2025) EllapsedTime: 87.1 seconds RetCode: 0 Status: OK CheckDir: ClusterSignificance.Rcheck Warnings: 0