Package: ClusterSignificance Version: 1.37.0 Command: /Library/Frameworks/R.framework/Resources/bin/R CMD build --keep-empty-dirs --no-resave-data ClusterSignificance StartedAt: 2025-10-24 16:34:56 -0400 (Fri, 24 Oct 2025) EndedAt: 2025-10-24 16:36:08 -0400 (Fri, 24 Oct 2025) EllapsedTime: 72.0 seconds RetCode: 0 Status: OK PackageFile: ClusterSignificance_1.37.0.tar.gz PackageFileSize: 2.107 MiB