Package: ClusterJudge Version: 1.31.0 Command: /Library/Frameworks/R.framework/Resources/bin/R CMD INSTALL ClusterJudge StartedAt: 2025-10-24 15:09:06 -0400 (Fri, 24 Oct 2025) EndedAt: 2025-10-24 15:09:09 -0400 (Fri, 24 Oct 2025) EllapsedTime: 3.0 seconds RetCode: 0 Status: OK