Package: ClusterJudge Version: 1.31.0 Command: /Library/Frameworks/R.framework/Resources/bin/R CMD build --keep-empty-dirs --no-resave-data ClusterJudge StartedAt: 2025-10-24 16:00:30 -0400 (Fri, 24 Oct 2025) EndedAt: 2025-10-24 16:00:51 -0400 (Fri, 24 Oct 2025) EllapsedTime: 21.3 seconds RetCode: 0 Status: OK PackageFile: ClusterJudge_1.31.0.tar.gz PackageFileSize: 957.3 KiB