Package: ClusterJudge Version: 1.31.0 Command: rm -rf ClusterJudge.buildbin-libdir && mkdir ClusterJudge.buildbin-libdir && /Users/biocbuild/BBS/utils/build-universal.sh ClusterJudge_1.31.0.tar.gz /Library/Frameworks/R.framework/Resources/bin/R ClusterJudge.buildbin-libdir StartedAt: 2025-10-24 22:58:05 -0400 (Fri, 24 Oct 2025) EndedAt: 2025-10-24 22:58:08 -0400 (Fri, 24 Oct 2025) EllapsedTime: 3.0 seconds RetCode: 0 Status: OK PackageFile: ClusterJudge_1.31.0.tgz PackageFileSize: 4.395 MiB