Package: ClusterJudge Version: 1.32.0 Maintainer: Adrian Pasculescu MaintainerEmail: a.pasculescu at gmail.com git_url: https://git.bioconductor.org/packages/ClusterJudge git_branch: RELEASE_3_22 git_last_commit: 4124b3f git_last_commit_date: 2025-10-29 10:39:27 -0400 (Wed, 29 Oct 2025)