Package: ClusterFoldSimilarity Version: 1.5.0 Command: /home/biocbuild/bbs-3.22-bioc/R/bin/R CMD build --keep-empty-dirs --no-resave-data --md5 ClusterFoldSimilarity StartedAt: 2025-10-27 16:54:20 -0400 (Mon, 27 Oct 2025) EndedAt: 2025-10-27 17:02:32 -0400 (Mon, 27 Oct 2025) EllapsedTime: 492.5 seconds RetCode: 0 Status: OK PackageFile: ClusterFoldSimilarity_1.5.0.tar.gz PackageFileSize: 1.566 MiB