Package: ClusterFoldSimilarity Version: 1.5.0 Command: /Library/Frameworks/R.framework/Resources/bin/R CMD INSTALL ClusterFoldSimilarity StartedAt: 2025-10-24 15:31:03 -0400 (Fri, 24 Oct 2025) EndedAt: 2025-10-24 15:31:53 -0400 (Fri, 24 Oct 2025) EllapsedTime: 50.2 seconds RetCode: 0 Status: OK