Package: ClusterFoldSimilarity Version: 1.5.0 Command: /Library/Frameworks/R.framework/Resources/bin/R CMD build --keep-empty-dirs --no-resave-data ClusterFoldSimilarity StartedAt: 2025-10-24 16:34:35 -0400 (Fri, 24 Oct 2025) EndedAt: 2025-10-24 16:43:22 -0400 (Fri, 24 Oct 2025) EllapsedTime: 527.3 seconds RetCode: 0 Status: OK PackageFile: ClusterFoldSimilarity_1.5.0.tar.gz PackageFileSize: 1.675 MiB