Package: ClusterFoldSimilarity Version: 1.5.0 Command: /Library/Frameworks/R.framework/Resources/bin/R CMD INSTALL ClusterFoldSimilarity StartedAt: 2025-10-27 15:14:14 -0400 (Mon, 27 Oct 2025) EndedAt: 2025-10-27 15:14:29 -0400 (Mon, 27 Oct 2025) EllapsedTime: 15.0 seconds RetCode: 0 Status: OK