Package: ClusterFoldSimilarity Version: 1.5.0 Command: /Library/Frameworks/R.framework/Resources/bin/R CMD build --keep-empty-dirs --no-resave-data ClusterFoldSimilarity StartedAt: 2025-10-26 15:58:46 -0400 (Sun, 26 Oct 2025) EndedAt: 2025-10-26 16:02:10 -0400 (Sun, 26 Oct 2025) EllapsedTime: 203.2 seconds RetCode: 0 Status: OK PackageFile: ClusterFoldSimilarity_1.5.0.tar.gz PackageFileSize: 1.686 MiB