Package: ClusterFoldSimilarity Version: 1.5.0 Command: rm -rf ClusterFoldSimilarity.buildbin-libdir && mkdir ClusterFoldSimilarity.buildbin-libdir && /Users/biocbuild/BBS/utils/build-universal.sh ClusterFoldSimilarity_1.5.0.tar.gz /Library/Frameworks/R.framework/Resources/bin/R ClusterFoldSimilarity.buildbin-libdir StartedAt: 2025-10-26 22:32:16 -0400 (Sun, 26 Oct 2025) EndedAt: 2025-10-26 22:32:31 -0400 (Sun, 26 Oct 2025) EllapsedTime: 15.3 seconds RetCode: 0 Status: OK PackageFile: ClusterFoldSimilarity_1.5.0.tgz PackageFileSize: 1.715 MiB