Package: ClustIRR Version: 1.7.15 Command: /home/biocbuild/bbs-3.22-bioc/R/bin/R CMD INSTALL ClustIRR StartedAt: 2025-10-24 15:19:17 -0400 (Fri, 24 Oct 2025) EndedAt: 2025-10-24 15:22:34 -0400 (Fri, 24 Oct 2025) EllapsedTime: 197.6 seconds RetCode: 0 Status: OK