Package: ClustIRR Version: 1.7.15 Command: /home/biocbuild/bbs-3.22-bioc/R/bin/R CMD build --keep-empty-dirs --no-resave-data --md5 ClustIRR StartedAt: 2025-10-24 17:03:23 -0400 (Fri, 24 Oct 2025) EndedAt: 2025-10-24 17:08:57 -0400 (Fri, 24 Oct 2025) EllapsedTime: 334.4 seconds RetCode: 0 Status: OK PackageFile: ClustIRR_1.7.15.tar.gz PackageFileSize: 3.033 MiB