Package: ClustIRR Version: 1.8.0 Command: /Library/Frameworks/R.framework/Resources/bin/R CMD INSTALL ClustIRR StartedAt: 2025-10-31 15:19:57 -0400 (Fri, 31 Oct 2025) EndedAt: 2025-10-31 15:22:23 -0400 (Fri, 31 Oct 2025) EllapsedTime: 146.8 seconds RetCode: 0 Status: OK