Package: ClustIRR Version: 1.8.0 Command: /Library/Frameworks/R.framework/Resources/bin/R CMD build --keep-empty-dirs --no-resave-data ClustIRR StartedAt: 2025-10-31 16:35:33 -0400 (Fri, 31 Oct 2025) EndedAt: 2025-10-31 16:40:44 -0400 (Fri, 31 Oct 2025) EllapsedTime: 310.6 seconds RetCode: 0 Status: OK PackageFile: ClustIRR_1.8.0.tar.gz PackageFileSize: 2.854 MiB