Package: ClustIRR Version: 1.7.15 Command: /Library/Frameworks/R.framework/Resources/bin/R CMD INSTALL ClustIRR StartedAt: 2025-10-24 15:07:38 -0400 (Fri, 24 Oct 2025) EndedAt: 2025-10-24 15:08:30 -0400 (Fri, 24 Oct 2025) EllapsedTime: 51.6 seconds RetCode: 0 Status: OK