Package: ClustIRR Version: 1.7.15 Command: /Library/Frameworks/R.framework/Resources/bin/R CMD build --keep-empty-dirs --no-resave-data ClustIRR StartedAt: 2025-10-24 16:00:50 -0400 (Fri, 24 Oct 2025) EndedAt: 2025-10-24 16:02:35 -0400 (Fri, 24 Oct 2025) EllapsedTime: 105.2 seconds RetCode: 0 Status: OK PackageFile: ClustIRR_1.7.15.tar.gz PackageFileSize: 2.856 MiB