Package: ClustIRR Version: 1.7.15 Command: rm -rf ClustIRR.buildbin-libdir && mkdir ClustIRR.buildbin-libdir && /Users/biocbuild/BBS/utils/build-universal.sh ClustIRR_1.7.15.tar.gz /Library/Frameworks/R.framework/Resources/bin/R ClustIRR.buildbin-libdir StartedAt: 2025-10-24 22:58:10 -0400 (Fri, 24 Oct 2025) EndedAt: 2025-10-24 22:59:05 -0400 (Fri, 24 Oct 2025) EllapsedTime: 55.1 seconds RetCode: 0 Status: OK PackageFile: ClustIRR_1.7.15.tgz PackageFileSize: 3.792 MiB