Package: ClustAll Version: 1.5.0 Command: /home/biocbuild/bbs-3.22-bioc/R/bin/R CMD INSTALL ClustAll StartedAt: 2025-10-24 16:11:30 -0400 (Fri, 24 Oct 2025) EndedAt: 2025-10-24 16:11:54 -0400 (Fri, 24 Oct 2025) EllapsedTime: 24.4 seconds RetCode: 0 Status: OK