Package: CluMSID Version: 1.25.0 Command: /home/biocbuild/bbs-3.22-bioc/R/bin/R CMD build --keep-empty-dirs --no-resave-data --md5 CluMSID StartedAt: 2025-10-24 17:02:19 -0400 (Fri, 24 Oct 2025) EndedAt: 2025-10-24 17:07:53 -0400 (Fri, 24 Oct 2025) EllapsedTime: 334.3 seconds RetCode: 0 Status: OK PackageFile: CluMSID_1.25.0.tar.gz PackageFileSize: 4.46 MiB