Package: Clomial Version: 1.45.0 Command: /home/biocbuild/bbs-3.22-bioc/R/bin/R CMD INSTALL Clomial StartedAt: 2025-10-24 15:14:29 -0400 (Fri, 24 Oct 2025) EndedAt: 2025-10-24 15:14:51 -0400 (Fri, 24 Oct 2025) EllapsedTime: 21.7 seconds RetCode: 0 Status: OK