Package: Clomial Version: 1.45.0 Command: /home/biocbuild/bbs-3.22-bioc/R/bin/R CMD build --keep-empty-dirs --no-resave-data --md5 Clomial StartedAt: 2025-10-24 17:01:54 -0400 (Fri, 24 Oct 2025) EndedAt: 2025-10-24 17:02:08 -0400 (Fri, 24 Oct 2025) EllapsedTime: 14.0 seconds RetCode: 0 Status: OK PackageFile: Clomial_1.45.0.tar.gz PackageFileSize: 1.462 MiB