Package: Clomial Version: 1.46.0 Command: /Library/Frameworks/R.framework/Resources/bin/R CMD build --keep-empty-dirs --no-resave-data Clomial StartedAt: 2025-11-10 15:57:21 -0500 (Mon, 10 Nov 2025) EndedAt: 2025-11-10 15:57:28 -0500 (Mon, 10 Nov 2025) EllapsedTime: 7.1 seconds RetCode: 0 Status: OK PackageFile: Clomial_1.46.0.tar.gz PackageFileSize: 1.461 MiB