Package: CleanUpRNAseq Version: 1.3.2 Command: /home/biocbuild/bbs-3.22-bioc/R/bin/R CMD INSTALL CleanUpRNAseq StartedAt: 2025-10-27 16:03:23 -0400 (Mon, 27 Oct 2025) EndedAt: 2025-10-27 16:04:07 -0400 (Mon, 27 Oct 2025) EllapsedTime: 44.5 seconds RetCode: 0 Status: OK