Package: CleanUpRNAseq Version: 1.3.2 Command: /home/biocbuild/bbs-3.22-bioc/R/bin/R CMD check --install=check:CleanUpRNAseq.install-out.txt --library=/home/biocbuild/bbs-3.22-bioc/R/site-library --timings CleanUpRNAseq_1.3.2.tar.gz StartedAt: 2025-10-27 22:06:19 -0400 (Mon, 27 Oct 2025) EndedAt: 2025-10-27 22:12:38 -0400 (Mon, 27 Oct 2025) EllapsedTime: 378.4 seconds RetCode: 0 Status: OK CheckDir: CleanUpRNAseq.Rcheck Warnings: 0