Package: CleanUpRNAseq Version: 1.3.2 Command: /Library/Frameworks/R.framework/Resources/bin/R CMD INSTALL CleanUpRNAseq StartedAt: 2025-10-27 15:49:49 -0400 (Mon, 27 Oct 2025) EndedAt: 2025-10-27 15:50:42 -0400 (Mon, 27 Oct 2025) EllapsedTime: 52.5 seconds RetCode: 0 Status: OK