Package: CleanUpRNAseq Version: 1.3.2 Command: /Library/Frameworks/R.framework/Resources/bin/R CMD build --keep-empty-dirs --no-resave-data CleanUpRNAseq StartedAt: 2025-10-27 16:24:10 -0400 (Mon, 27 Oct 2025) EndedAt: 2025-10-27 16:25:46 -0400 (Mon, 27 Oct 2025) EllapsedTime: 95.9 seconds RetCode: 0 Status: OK PackageFile: CleanUpRNAseq_1.3.2.tar.gz PackageFileSize: 2.474 MiB