Package: CleanUpRNAseq Version: 1.3.2 Command: rm -rf CleanUpRNAseq.buildbin-libdir && mkdir CleanUpRNAseq.buildbin-libdir && /Users/biocbuild/BBS/utils/build-universal.sh CleanUpRNAseq_1.3.2.tar.gz /Library/Frameworks/R.framework/Resources/bin/R CleanUpRNAseq.buildbin-libdir StartedAt: 2025-10-28 02:04:50 -0400 (Tue, 28 Oct 2025) EndedAt: 2025-10-28 02:05:57 -0400 (Tue, 28 Oct 2025) EllapsedTime: 66.8 seconds RetCode: 0 Status: OK PackageFile: CleanUpRNAseq_1.3.2.tgz PackageFileSize: 2.622 MiB