Package: CleanUpRNAseq Version: 1.3.2 Command: /Library/Frameworks/R.framework/Resources/bin/R CMD INSTALL CleanUpRNAseq StartedAt: 2025-10-27 15:32:14 -0400 (Mon, 27 Oct 2025) EndedAt: 2025-10-27 15:32:33 -0400 (Mon, 27 Oct 2025) EllapsedTime: 18.3 seconds RetCode: 0 Status: OK