Package: ClassifyR Version: 3.13.8 Command: /home/biocbuild/bbs-3.22-bioc/R/bin/R CMD INSTALL ClassifyR StartedAt: 2025-10-24 15:38:55 -0400 (Fri, 24 Oct 2025) EndedAt: 2025-10-24 15:39:29 -0400 (Fri, 24 Oct 2025) EllapsedTime: 34.0 seconds RetCode: 0 Status: OK